BEGIN:VCALENDAR
VERSION:2.0
PRODID:-//MIT Recreation - ECPv6.15.17.1//NONSGML v1.0//EN
CALSCALE:GREGORIAN
METHOD:PUBLISH
X-ORIGINAL-URL:https://www.mitrecsports.com
X-WR-CALDESC:Events for MIT Recreation
REFRESH-INTERVAL;VALUE=DURATION:PT1H
X-Robots-Tag:noindex
X-PUBLISHED-TTL:PT1H
BEGIN:VTIMEZONE
TZID:America/New_York
BEGIN:DAYLIGHT
TZOFFSETFROM:-0500
TZOFFSETTO:-0400
TZNAME:EDT
DTSTART:20250309T070000
END:DAYLIGHT
BEGIN:STANDARD
TZOFFSETFROM:-0400
TZOFFSETTO:-0500
TZNAME:EST
DTSTART:20251102T060000
END:STANDARD
BEGIN:DAYLIGHT
TZOFFSETFROM:-0500
TZOFFSETTO:-0400
TZNAME:EDT
DTSTART:20260308T070000
END:DAYLIGHT
BEGIN:STANDARD
TZOFFSETFROM:-0400
TZOFFSETTO:-0500
TZNAME:EST
DTSTART:20261101T060000
END:STANDARD
BEGIN:DAYLIGHT
TZOFFSETFROM:-0500
TZOFFSETTO:-0400
TZNAME:EDT
DTSTART:20270314T070000
END:DAYLIGHT
BEGIN:STANDARD
TZOFFSETFROM:-0400
TZOFFSETTO:-0500
TZNAME:EST
DTSTART:20271107T060000
END:STANDARD
END:VTIMEZONE
BEGIN:VEVENT
DTSTART;VALUE=DATE:20260220
DTEND;VALUE=DATE:20260227
DTSTAMP:20260422T074506
CREATED:20260217T160506Z
LAST-MODIFIED:20260217T160607Z
UID:16526-1771545600-1772150399@www.mitrecsports.com
SUMMARY:Personal Training Sale
DESCRIPTION:The Winter/Spring PT Sale is scheduled for February 20 – 26. Personal Training and Program Design packages are available at 10% off. Purchase directly in the MIT Recreation app\, or at any of our Member Services desks in the Zesiger or Alumni Wang Fitness Centers. This sale is eligible for current Personal Training clients and prospective new clients. See pricing below and email fitness@mit.edu with questions. \nPrivate Lessons
URL:https://www.mitrecsports.com/event/personal-training-sale/
LOCATION:MIT Recreation\, 120 Vassar Street\, Cambridge\, MA\, 02139\, United States
CATEGORIES:Sales and Discounts
ORGANIZER;CN="MIT Recreation":MAILTO:elin7@mit.edu
END:VEVENT
END:VCALENDAR